BEGIN:VCALENDAR
VERSION:2.0
PRODID:-//Smt. Samjuben Kapurchand Parekh Vivekananda Vidyalaya - ECPv6.15.11//NONSGML v1.0//EN
CALSCALE:GREGORIAN
METHOD:PUBLISH
X-WR-CALNAME:Smt. Samjuben Kapurchand Parekh Vivekananda Vidyalaya
X-ORIGINAL-URL:https://sskpvv.org
X-WR-CALDESC:Events for Smt. Samjuben Kapurchand Parekh Vivekananda Vidyalaya
REFRESH-INTERVAL;VALUE=DURATION:PT1H
X-Robots-Tag:noindex
X-PUBLISHED-TTL:PT1H
BEGIN:VTIMEZONE
TZID:UTC
BEGIN:STANDARD
TZOFFSETFROM:+0000
TZOFFSETTO:+0000
TZNAME:UTC
DTSTART:20240101T000000
END:STANDARD
END:VTIMEZONE
BEGIN:VEVENT
DTSTART;TZID=UTC:20260220T080000
DTEND;TZID=UTC:20260220T170000
DTSTAMP:20260419T160912
CREATED:20260128T103923Z
LAST-MODIFIED:20260128T111750Z
UID:30984-1771574400-1771606800@sskpvv.org
SUMMARY:Annual Day
DESCRIPTION:Annual Day is a grand celebration of our school’s achievements\, where students showcase their talents through vibrant performances\, reflecting confidence\, creativity\, and teamwork. \n  \n 
URL:https://sskpvv.org/event/annual-day/
CATEGORIES:Home Upcoming,Traditional Events,Upcoming Events
ATTACH;FMTTYPE=image/jpeg:https://sskpvv.org/wp-content/uploads/2026/01/03.jpg
END:VEVENT
BEGIN:VEVENT
DTSTART;TZID=UTC:20260129T080000
DTEND;TZID=UTC:20260129T170000
DTSTAMP:20260419T160912
CREATED:20260127T103618Z
LAST-MODIFIED:20260415T073024Z
UID:30980-1769673600-1769706000@sskpvv.org
SUMMARY:Kids’ Sports Day
DESCRIPTION:Kids’ Sports Day is a joyful celebration for our pre-primary and primary students\, designed to nurture a love for sports\, teamwork\, and physical fitness from a very young age. \n 
URL:https://sskpvv.org/event/kids-sports-day/
CATEGORIES:Sports,Upcoming Events
ATTACH;FMTTYPE=image/jpeg:https://sskpvv.org/wp-content/uploads/2026/01/01.jpg
END:VEVENT
BEGIN:VEVENT
DTSTART;TZID=UTC:20251220T090000
DTEND;TZID=UTC:20251220T170000
DTSTAMP:20260419T160912
CREATED:20250922T114508Z
LAST-MODIFIED:20251220T114312Z
UID:22290-1766221200-1766250000@sskpvv.org
SUMMARY:Samaskritham Workshop
DESCRIPTION:To promote the effective teaching and appreciation of Sanskrit by building teachers’ skills in spoken Sanskrit\, pronunciation of shlokas\, and culturally rich instructional methods that connect language with heritage.
URL:https://sskpvv.org/event/samaskritham-workshop/
LOCATION:MMC
CATEGORIES:Upcoming Events
ATTACH;FMTTYPE=image/jpeg:https://sskpvv.org/wp-content/uploads/2025/09/01-1.jpg
END:VEVENT
BEGIN:VEVENT
DTSTART;TZID=UTC:20251030T090000
DTEND;TZID=UTC:20251030T180000
DTSTAMP:20260419T160912
CREATED:20190921T114509Z
LAST-MODIFIED:20250925T140609Z
UID:22294-1761814800-1761847200@sskpvv.org
SUMMARY:Colour Day
DESCRIPTION:Colour Day is conducted to make learning joyful\, hands-on\, and memorable\, while also laying a strong foundation for early childhood education. \n  \n  
URL:https://sskpvv.org/event/colour-day/
LOCATION:School Campus\, Nachiar Chatram\, Thiruninravur\, India\, Tamilnadu\, 602024\, India
CATEGORIES:Upcoming Events
ATTACH;FMTTYPE=image/jpeg:https://sskpvv.org/wp-content/uploads/2019/09/Event-Coloursday-02.jpg
END:VEVENT
BEGIN:VEVENT
DTSTART;TZID=UTC:20251007T090000
DTEND;TZID=UTC:20251008T120000
DTSTAMP:20260419T160912
CREATED:20250123T114510Z
LAST-MODIFIED:20260415T073031Z
UID:22295-1759827600-1759924800@sskpvv.org
SUMMARY:Student’s Tour
DESCRIPTION:To give our young learners a well-deserved break from routine and to help them experience joy beyond the classroom\, we organized a Children’s Enjoyment Tour filled with excitement\, laughter\, and adventure! \n  \n  \n 
URL:https://sskpvv.org/event/students-tour/
LOCATION:School Campus\, Nachiar Chatram\, Thiruninravur\, India\, Tamilnadu\, 602024\, India
CATEGORIES:Upcoming Events
ATTACH;FMTTYPE=image/jpeg:https://sskpvv.org/wp-content/uploads/2019/09/Event-students-tour02.jpg
END:VEVENT
BEGIN:VEVENT
DTSTART;TZID=UTC:20250922T090000
DTEND;TZID=UTC:20250926T120000
DTSTAMP:20260419T160912
CREATED:20190121T114508Z
LAST-MODIFIED:20250925T140325Z
UID:22293-1758531600-1758888000@sskpvv.org
SUMMARY:Mentor’s In service training
DESCRIPTION:Recognizing the importance of continuous professional development\, we organize in-service training programs for our teachers. These sessions aim to enhance their instructional skills\, update them on the latest pedagogical trends\, and strengthen overall classroom effectiveness.
URL:https://sskpvv.org/event/mentors-in-service-training/
LOCATION:School Campus\, Nachiar Chatram\, Thiruninravur\, India\, Tamilnadu\, 602024\, India
CATEGORIES:Traditional Events,Upcoming Events
ATTACH;FMTTYPE=image/jpeg:https://sskpvv.org/wp-content/uploads/2019/09/Event-teachers-inservice03.jpg
END:VEVENT
BEGIN:VEVENT
DTSTART;TZID=UTC:20250922T090000
DTEND;TZID=UTC:20250922T120000
DTSTAMP:20260419T160912
CREATED:20190922T114508Z
LAST-MODIFIED:20250925T140254Z
UID:22291-1758531600-1758542400@sskpvv.org
SUMMARY:Navaratri Celebration
DESCRIPTION:Navaratri symbolizes the victory of good over evil\, marking the triumph of light over darkness and righteousness over wrong. The festival honours Goddess Durga and her nine divine manifestations\, known as the Navadurga.
URL:https://sskpvv.org/event/navaratri-celebration-2/
LOCATION:School Campus\, Nachiar Chatram\, Thiruninravur\, India\, Tamilnadu\, 602024\, India
CATEGORIES:Traditional Events
ATTACH;FMTTYPE=image/jpeg:https://sskpvv.org/wp-content/uploads/2019/09/Event-Navrathiri-01.jpg
END:VEVENT
BEGIN:VEVENT
DTSTART;TZID=UTC:20250920T100000
DTEND;TZID=UTC:20250920T170000
DTSTAMP:20260419T160912
CREATED:20250922T114508Z
LAST-MODIFIED:20251220T114612Z
UID:22292-1758362400-1758387600@sskpvv.org
SUMMARY:Maths Workshop
DESCRIPTION:To equip teachers with innovative\, engaging\, and practical strategies to make mathematics more interactive\, enjoyable\, and meaningful for students\, while enhancing their own subject understanding and confidence in teaching mathematical concepts.
URL:https://sskpvv.org/event/maths-workshop/
LOCATION:School Campus\, Nachiar Chatram\, Thiruninravur\, India\, Tamilnadu\, 602024\, India
CATEGORIES:Upcoming Events
ATTACH;FMTTYPE=image/jpeg:https://sskpvv.org/wp-content/uploads/2025/09/02.jpg
END:VEVENT
END:VCALENDAR